BEGIN:VCALENDAR
VERSION:2.0
PRODID:-//Friends &amp; Descendants of Johnson&#039;s Island Civil War Prison - ECPv6.15.20//NONSGML v1.0//EN
CALSCALE:GREGORIAN
METHOD:PUBLISH
X-WR-CALNAME:Friends &amp; Descendants of Johnson&#039;s Island Civil War Prison
X-ORIGINAL-URL:https://johnsons-island.org
X-WR-CALDESC:Events for Friends &amp; Descendants of Johnson&#039;s Island Civil War Prison
REFRESH-INTERVAL;VALUE=DURATION:PT1H
X-Robots-Tag:noindex
X-PUBLISHED-TTL:PT1H
BEGIN:VTIMEZONE
TZID:UTC
BEGIN:STANDARD
TZOFFSETFROM:+0000
TZOFFSETTO:+0000
TZNAME:UTC
DTSTART:20250101T000000
END:STANDARD
END:VTIMEZONE
BEGIN:VTIMEZONE
TZID:America/New_York
BEGIN:DAYLIGHT
TZOFFSETFROM:-0500
TZOFFSETTO:-0400
TZNAME:EDT
DTSTART:20250309T070000
END:DAYLIGHT
BEGIN:STANDARD
TZOFFSETFROM:-0400
TZOFFSETTO:-0500
TZNAME:EST
DTSTART:20251102T060000
END:STANDARD
BEGIN:DAYLIGHT
TZOFFSETFROM:-0500
TZOFFSETTO:-0400
TZNAME:EDT
DTSTART:20260308T070000
END:DAYLIGHT
BEGIN:STANDARD
TZOFFSETFROM:-0400
TZOFFSETTO:-0500
TZNAME:EST
DTSTART:20261101T060000
END:STANDARD
BEGIN:DAYLIGHT
TZOFFSETFROM:-0500
TZOFFSETTO:-0400
TZNAME:EDT
DTSTART:20270314T070000
END:DAYLIGHT
BEGIN:STANDARD
TZOFFSETFROM:-0400
TZOFFSETTO:-0500
TZNAME:EST
DTSTART:20271107T060000
END:STANDARD
END:VTIMEZONE
BEGIN:VEVENT
DTSTART;TZID=UTC:20260411T090000
DTEND;TZID=UTC:20260411T150000
DTSTAMP:20260423T221913
CREATED:20230306T185626Z
LAST-MODIFIED:20260210T011141Z
UID:168-1775898000-1775919600@johnsons-island.org
SUMMARY:Park Day at Johnson's Island (American Battlefield Trust)
DESCRIPTION:Join us for the Johnson’s Island Civil War Military Prison Park Day to help clean up and maintain the site of Johnson’s Island Civil War Prison.\n\n*Please note that the Johnson’s Island Park Day is not on the nationally-observed date in 2026.\n\nAdvance registration is required. This is important so we can plan to have enough food for everyone!\nTo register\, please complete this form by April 5: https://forms.gle/Qi5FmLG5qHm1QDy99 .\nRegistrants will receive further instructions by email.\n\nPlease meet at the site (GPS: 4005 E. Baycliffs Drive\, Lakeside Marblehead\, OH 43440) at 9:00 a.m. for a brief introduction to Johnson’s Island.\n\nWear your outdoor work clothes (including gloves) and dress for the weather (there is no shelter at the site). Please bring garden rakes\, wheel barrows\, tools for cutting branches\, and/or chain saws if you can.\n\nWe will be clearing brush and sticks that have fallen over the winter to clean up the site\, clearing trees around Fort Johnson\, doing some general landscaping\, and other similar projects.\n\nLunch will be provided. After lunch\, there will be a tour and time to view the fort.
URL:https://johnsons-island.org/event/park-day-at-johnsons-island-american-battlefield-trust/
ATTACH;FMTTYPE=image/jpeg:https://johnsons-island.org/wp-content/uploads/2023/03/324672440_559205792767040_3525360075206576775_n.jpg
END:VEVENT
BEGIN:VEVENT
DTSTART;TZID=America/New_York:20260502T080000
DTEND;TZID=America/New_York:20260503T150000
DTSTAMP:20260423T221913
CREATED:20230306T210924Z
LAST-MODIFIED:20260210T010850Z
UID:189-1777708800-1777820400@johnsons-island.org
SUMMARY:Ohio Civil War Show in Mansfield
DESCRIPTION:The Friends & Descendants of Johnson’s Island Civil War Prison will have an educational table and books for sale in the Main Exhibitors Hall during the Ohio Civil War Show (May 2-3\, 2026). The show is held at the Richland County Fairgrounds (750 North Home Road\, Mansfield\, OH 44906). \nMore information about the show can be found at https://ohiocivilwarshow.com/wp/.
URL:https://johnsons-island.org/event/ohio-civil-war-show-in-mansfield-2/
ATTACH;FMTTYPE=image/jpeg:https://johnsons-island.org/wp-content/uploads/2023/03/484170679_974953768107536_3644597963130973784_n.jpg
END:VEVENT
BEGIN:VEVENT
DTSTART;TZID=UTC:20260718T100000
DTEND;TZID=UTC:20260718T150000
DTSTAMP:20260423T221913
CREATED:20250712T022937Z
LAST-MODIFIED:20260210T010651Z
UID:3385-1784368800-1784386800@johnsons-island.org
SUMMARY:Johnson's Island Pop-Up Museum & Tours
DESCRIPTION:The Friends and Descendants of Johnson’s Island Civil War Prison will host a pop-up museum of artifacts and historical documents relating to the prisoners and guards on display at the Johnson’s Island Clubhouse (located next to the Confederate Stockade Cemetery). A series of short presentations will be given throughout the day in the clubhouse. Parking is available at the adjacent Confederate Cemetery.\n\nWe invite organizations and private collectors with items relating to Johnson’s Island and/or Ohio’s role in the Civil War to have a display at this event. There is no cost to host a table. Please contact us for more information.\n\nTours of the Civil War Prison site (GPS: 4005 E Baycliffs Dr\, Johnson’s Island\, Ohio) and the cemetery will be held at select times during the event. Parking for the prison tours is available along Baycliffs Drive. Please do not park in the marina parking area across the street.\n\nThe event and tours are free and open to the public. Visitors to Johnson’s Island will need to pay a $2 cash toll to access the island via the causeway (dollars or quarters only).\nQuestions? Contact us at jicwmp@gmail.com
URL:https://johnsons-island.org/event/johnsons-island-pop-up-museum-tours/
ATTACH;FMTTYPE=image/jpeg:https://johnsons-island.org/wp-content/uploads/2025/07/518382277_1082337897369122_5864292124635825802_n.jpg
END:VEVENT
END:VCALENDAR